BEGIN:VCALENDAR
VERSION:2.0
PRODID:-//Connext.vet - ECPv6.15.14//NONSGML v1.0//EN
CALSCALE:GREGORIAN
METHOD:PUBLISH
X-WR-CALNAME:Connext.vet
X-ORIGINAL-URL:https://connext.vet
X-WR-CALDESC:Events for Connext.vet
REFRESH-INTERVAL;VALUE=DURATION:PT1H
X-Robots-Tag:noindex
X-PUBLISHED-TTL:PT1H
BEGIN:VTIMEZONE
TZID:UTC
BEGIN:STANDARD
TZOFFSETFROM:+0000
TZOFFSETTO:+0000
TZNAME:UTC
DTSTART:20250101T000000
END:STANDARD
END:VTIMEZONE
BEGIN:VEVENT
DTSTART;VALUE=DATE:20260117
DTEND;VALUE=DATE:20260122
DTSTAMP:20260423T162550
CREATED:20250209T001348Z
LAST-MODIFIED:20250212T181051Z
UID:10000092-1768608000-1769039999@connext.vet
SUMMARY:VMX: Veterinary Meeting & Expo 2026
DESCRIPTION:
URL:https://connext.vet/event/vmx-veterinary-meeting-expo-2026/
LOCATION:Orange County Convention Center\, 9899 International Drive\, Orlando\, FL\, 32819\, United States
ATTACH;FMTTYPE=image/jpeg:https://connext.vet/wp-content/uploads/2024/09/orange-county-convention-center.jpg
GEO:28.4287799;-81.4620917
X-APPLE-STRUCTURED-LOCATION;VALUE=URI;X-ADDRESS=Orange County Convention Center 9899 International Drive Orlando FL 32819 United States;X-APPLE-RADIUS=500;X-TITLE=9899 International Drive:geo:-81.4620917,28.4287799
END:VEVENT
BEGIN:VEVENT
DTSTART;VALUE=DATE:20260206
DTEND;VALUE=DATE:20260209
DTSTAMP:20260423T162550
CREATED:20250112T225212Z
LAST-MODIFIED:20250113T003534Z
UID:10000071-1770336000-1770595199@connext.vet
SUMMARY:2026 LVMA Winter Meeting
DESCRIPTION:
URL:https://connext.vet/event/2026-lvma-winter-meeting/
LOCATION:Lafayette\, LA\, Lafayette\, United States
ATTACH;FMTTYPE=image/jpeg:https://connext.vet/wp-content/uploads/2025/01/hands-of-african-american-male-veterinarian-touching-dachshund-e1736722324861.jpg
ORGANIZER;CN="LVMA%3A Louisiana Veterinary Medical Association":MAILTO:office@lvma.org
END:VEVENT
BEGIN:VEVENT
DTSTART;VALUE=DATE:20260215
DTEND;VALUE=DATE:20260219
DTSTAMP:20260423T162550
CREATED:20250224T001153Z
LAST-MODIFIED:20250224T001153Z
UID:10000096-1771113600-1771459199@connext.vet
SUMMARY:WVC 2026
DESCRIPTION:
URL:https://connext.vet/event/wvc-2026/
LOCATION:Mandalay Bay Resort and Casino\, 3950 S Las Vegas Blvd.\, NV\, 89119\, United States
ATTACH;FMTTYPE=image/jpeg:https://connext.vet/wp-content/uploads/2024/11/las-vegas-sign-las-vegas-nevada-usa-e1740355248971.jpg
GEO:36.0898125;-115.1785598
X-APPLE-STRUCTURED-LOCATION;VALUE=URI;X-ADDRESS=Mandalay Bay Resort and Casino 3950 S Las Vegas Blvd. NV 89119 United States;X-APPLE-RADIUS=500;X-TITLE=3950 S Las Vegas Blvd.:geo:-115.1785598,36.0898125
END:VEVENT
BEGIN:VEVENT
DTSTART;VALUE=DATE:20260227
DTEND;VALUE=DATE:20260303
DTSTAMP:20260423T162550
CREATED:20241110T211904Z
LAST-MODIFIED:20241110T211904Z
UID:10000019-1772150400-1772495999@connext.vet
SUMMARY:American Association of Swine Veterinarians: AASV 57th Annual Meeting
DESCRIPTION:
URL:https://connext.vet/event/american-association-of-swine-veterinarians-aasv-57th-annual-meeting/
LOCATION:Las Vegas\, Las Vegas\, NV\, United States
ATTACH;FMTTYPE=image/jpeg:https://connext.vet/wp-content/uploads/2024/11/las-vegas-cityscape-nevada-e1731273527723.jpg
ORGANIZER;CN="AASV%3A American Association of Swine Veterinarians":MAILTO:aasv@aasv.org
END:VEVENT
BEGIN:VEVENT
DTSTART;VALUE=DATE:20260409
DTEND;VALUE=DATE:20260414
DTSTAMP:20260423T162550
CREATED:20241111T005850Z
LAST-MODIFIED:20241111T005850Z
UID:10000027-1775710800-1776056399@connext.vet
SUMMARY:2026 ABVP Symposium
DESCRIPTION:
URL:https://connext.vet/event/2026-abvp-symposium/
LOCATION:Boston\, Boston\, MA\, United States
ATTACH;FMTTYPE=image/jpeg:https://connext.vet/wp-content/uploads/2024/11/downtown-boston-cityscape-e1731286724327.jpg
ORGANIZER;CN="ABVP%3A American Board of Veterinary Practitioners":MAILTO:info@abvp.com
END:VEVENT
BEGIN:VEVENT
DTSTART;VALUE=DATE:20260416
DTEND;VALUE=DATE:20260420
DTSTAMP:20260423T162550
CREATED:20241111T003927Z
LAST-MODIFIED:20241111T003927Z
UID:10000025-1776312000-1776571199@connext.vet
SUMMARY:2026 AAVMC Annual Conference & Iverson Bell Symposium
DESCRIPTION:
URL:https://connext.vet/event/2026-aavmc-annual-conference-iverson-bell-symposium/
LOCATION:Grand Hyatt Washington\, 1000 H Street NW\, Washington\, DC\, 20001\, United States
ATTACH;FMTTYPE=image/jpeg:https://connext.vet/wp-content/uploads/2024/11/washington-dc-monuments-fountains-usa.jpg
GEO:38.8994803;-77.0267866
X-APPLE-STRUCTURED-LOCATION;VALUE=URI;X-ADDRESS=Grand Hyatt Washington 1000 H Street NW Washington DC 20001 United States;X-APPLE-RADIUS=500;X-TITLE=1000 H Street NW:geo:-77.0267866,38.8994803
END:VEVENT
BEGIN:VEVENT
DTSTART;VALUE=DATE:20260430
DTEND;VALUE=DATE:20260504
DTSTAMP:20260423T162550
CREATED:20250208T231520Z
LAST-MODIFIED:20250208T231520Z
UID:10000086-1777507200-1777852799@connext.vet
SUMMARY:NAVDF 2026: North American Veterinary Dermatology Forum
DESCRIPTION:
URL:https://connext.vet/event/navdf-2026-north-american-veterinary-dermatology-forum/
LOCATION:JW Marriott Indianapolis\, 10 S. West St.\, Indianapolis\, IN\, 46204\, United States
ATTACH;FMTTYPE=image/jpeg:https://connext.vet/wp-content/uploads/2024/11/indianapolis-indiana-usa-cityscape-and-monument-e1731274574446.jpg
ORGANIZER;CN="North American Veterinary Dermatology Forum":MAILTO:info@navdf.org
GEO:39.7665017;-86.1683318
X-APPLE-STRUCTURED-LOCATION;VALUE=URI;X-ADDRESS=JW Marriott Indianapolis 10 S. West St. Indianapolis IN 46204 United States;X-APPLE-RADIUS=500;X-TITLE=10 S. West St.:geo:-86.1683318,39.7665017
END:VEVENT
BEGIN:VEVENT
DTSTART;VALUE=DATE:20260610
DTEND;VALUE=DATE:20260614
DTSTAMP:20260423T162550
CREATED:20241111T021436Z
LAST-MODIFIED:20241111T021712Z
UID:10000029-1781049600-1781395199@connext.vet
SUMMARY:2026 ACVIM Forum
DESCRIPTION:Session Topics\nSpeciality Focus \n\nCardiology\nLarge animal internal medicine\nNeurology\nNutrition\nOncology\nSmall animal internal medicine\n\nAdditional Topics \n\nBusiness\nLeadership\nCommunication\nEducation\nResearch\nWellbeing\n\n 
URL:https://connext.vet/event/2026-acvim-forum/
LOCATION:Seattle Convention Center Summit Building\, 900 Pine Street\, Seattle\, 98101\, United States
ATTACH;FMTTYPE=image/jpeg:https://connext.vet/wp-content/uploads/2024/11/seattle-with-mount-rainier-e1731291207264.jpg
GEO:47.6145412;-122.331354
X-APPLE-STRUCTURED-LOCATION;VALUE=URI;X-ADDRESS=Seattle Convention Center Summit Building 900 Pine Street Seattle 98101 United States;X-APPLE-RADIUS=500;X-TITLE=900 Pine Street:geo:-122.331354,47.6145412
END:VEVENT
BEGIN:VEVENT
DTSTART;VALUE=DATE:20260616
DTEND;VALUE=DATE:20260620
DTSTAMP:20260423T162550
CREATED:20250112T204646Z
LAST-MODIFIED:20250112T212317Z
UID:10000058-1781568000-1781913599@connext.vet
SUMMARY:IPVS Congress 2026
DESCRIPTION:
URL:https://connext.vet/event/ipvs-congress-2026/
LOCATION:Ho Chi Minh City\, Ho Chi Minh City\, Viet Nam
ATTACH;FMTTYPE=image/jpeg:https://connext.vet/wp-content/uploads/2025/01/saigon-ho-chi-min-city-e1736714793739.jpg
END:VEVENT
BEGIN:VEVENT
DTSTART;VALUE=DATE:20260709
DTEND;VALUE=DATE:20260713
DTSTAMP:20260423T162550
CREATED:20250207T002449Z
LAST-MODIFIED:20250207T002449Z
UID:10000076-1783555200-1783900799@connext.vet
SUMMARY:Mississippi Veterinary Medical Association Summer Conference 2026
DESCRIPTION:
URL:https://connext.vet/event/mississippi-veterinary-medical-association-summer-conference-2026/
LOCATION:The Lodge at Gulf State Park\, 21196 East Beach Blvd.\, Gulf Shores\, AL\, 36542\, United States
ATTACH;FMTTYPE=image/jpeg:https://connext.vet/wp-content/uploads/2025/02/aerial-view-of-the-beach-in-gulf-shores-alabama-e1738887720251.jpg
ORGANIZER;CN="Mississippi Veterinary Medical Association":MAILTO:info@msvet.org
GEO:30.250184;-87.6644393
X-APPLE-STRUCTURED-LOCATION;VALUE=URI;X-ADDRESS=The Lodge at Gulf State Park 21196 East Beach Blvd. Gulf Shores AL 36542 United States;X-APPLE-RADIUS=500;X-TITLE=21196 East Beach Blvd.:geo:-87.6644393,30.250184
END:VEVENT
BEGIN:VEVENT
DTSTART;VALUE=DATE:20260710
DTEND;VALUE=DATE:20260716
DTSTAMP:20260423T162550
CREATED:20241111T183424Z
LAST-MODIFIED:20241111T183424Z
UID:10000038-1783656000-1784087999@connext.vet
SUMMARY:AVMA Convention 2026
DESCRIPTION:
URL:https://connext.vet/event/avma-convention-2026/
LOCATION:Anaheim\, CA\, Anaheim\, CA\, United States
ATTACH;FMTTYPE=image/jpeg:https://connext.vet/wp-content/uploads/2024/11/iStock-124664036-e1731350051590.jpg
END:VEVENT
END:VCALENDAR